BEGIN:VCALENDAR
VERSION:2.0
PRODID:-//CommunityGrows - ECPv5.2.1.1//NONSGML v1.0//EN
CALSCALE:GREGORIAN
METHOD:PUBLISH
X-WR-CALNAME:CommunityGrows
X-ORIGINAL-URL:https://redesign.communitygrows.org
X-WR-CALDESC:Events for CommunityGrows
BEGIN:VTIMEZONE
TZID:America/Denver
BEGIN:DAYLIGHT
TZOFFSETFROM:-0700
TZOFFSETTO:-0600
TZNAME:MDT
DTSTART:20240310T090000
END:DAYLIGHT
BEGIN:STANDARD
TZOFFSETFROM:-0600
TZOFFSETTO:-0700
TZNAME:MST
DTSTART:20241103T080000
END:STANDARD
END:VTIMEZONE
BEGIN:VEVENT
DTSTART;TZID=America/Denver:20240821T133000
DTEND;TZID=America/Denver:20240821T153000
DTSTAMP:20260421T012400
CREATED:20240809T205551Z
LAST-MODIFIED:20240809T205553Z
UID:58216-1724247000-1724254200@redesign.communitygrows.org
SUMMARY:Garden Work Day
DESCRIPTION:Join us for a day in the garden! By volunteering\, you’ll help prepare these green spaces for young people to learn\, grow\, and create lasting memories. Whether you’re new to gardening or a seasoned pro\, we welcome you to give back to the community while enjoying the outdoors and getting your hands dirty. \n\n\n\nTo volunteer\, click the “sign up” button below.
URL:https://redesign.communitygrows.org/event/garden-work-day-2
LOCATION:Rosa parks elementary\, 1501 O'Farrell St\, San Francisco\, California\, 94115\, United States
ORGANIZER;CN="CommunityGrows":MAILTO:info@communitygrows.org
END:VEVENT
END:VCALENDAR